BEGIN:VCALENDAR
VERSION:2.0
PRODID:-//PALVA - ECPv6.15.11//NONSGML v1.0//EN
CALSCALE:GREGORIAN
METHOD:PUBLISH
X-WR-CALNAME:PALVA
X-ORIGINAL-URL:http://palva.fr
X-WR-CALDESC:Évènements pour PALVA
REFRESH-INTERVAL;VALUE=DURATION:PT1H
X-Robots-Tag:noindex
X-PUBLISHED-TTL:PT1H
BEGIN:VTIMEZONE
TZID:Europe/Paris
BEGIN:DAYLIGHT
TZOFFSETFROM:+0100
TZOFFSETTO:+0200
TZNAME:CEST
DTSTART:20250330T010000
END:DAYLIGHT
BEGIN:STANDARD
TZOFFSETFROM:+0200
TZOFFSETTO:+0100
TZNAME:CET
DTSTART:20251026T010000
END:STANDARD
BEGIN:DAYLIGHT
TZOFFSETFROM:+0100
TZOFFSETTO:+0200
TZNAME:CEST
DTSTART:20260329T010000
END:DAYLIGHT
BEGIN:STANDARD
TZOFFSETFROM:+0200
TZOFFSETTO:+0100
TZNAME:CET
DTSTART:20261025T010000
END:STANDARD
BEGIN:DAYLIGHT
TZOFFSETFROM:+0100
TZOFFSETTO:+0200
TZNAME:CEST
DTSTART:20270328T010000
END:DAYLIGHT
BEGIN:STANDARD
TZOFFSETFROM:+0200
TZOFFSETTO:+0100
TZNAME:CET
DTSTART:20271031T010000
END:STANDARD
END:VTIMEZONE
BEGIN:VEVENT
DTSTART;TZID=Europe/Paris:20260127T183000
DTEND;TZID=Europe/Paris:20260127T203000
DTSTAMP:20260425T032131
CREATED:20250828T084206Z
LAST-MODIFIED:20250828T084206Z
UID:1543-1769538600-1769545800@palva.fr
SUMMARY:Hygiène alimentaire : les bonnes pratiques associatives
DESCRIPTION:Pourquoi l’hygiène alimentaire concerne (aussi) mon association ? Découvrez les erreurs les plus fréquentes et les potentielles conséquences.
URL:http://palva.fr/event/hygiene-alimentaire-les-bonnes-pratiques-associatives/
LOCATION:Mairie de Billère
CATEGORIES:CYCLE L’ASSOCIATION AU QUOTIDIEN
END:VEVENT
END:VCALENDAR