BEGIN:VCALENDAR
VERSION:2.0
PRODID:-//PALVA - ECPv6.15.11//NONSGML v1.0//EN
CALSCALE:GREGORIAN
METHOD:PUBLISH
X-ORIGINAL-URL:http://palva.fr
X-WR-CALDESC:Évènements pour PALVA
REFRESH-INTERVAL;VALUE=DURATION:PT1H
X-Robots-Tag:noindex
X-PUBLISHED-TTL:PT1H
BEGIN:VTIMEZONE
TZID:Europe/Paris
BEGIN:DAYLIGHT
TZOFFSETFROM:+0100
TZOFFSETTO:+0200
TZNAME:CEST
DTSTART:20250330T010000
END:DAYLIGHT
BEGIN:STANDARD
TZOFFSETFROM:+0200
TZOFFSETTO:+0100
TZNAME:CET
DTSTART:20251026T010000
END:STANDARD
BEGIN:DAYLIGHT
TZOFFSETFROM:+0100
TZOFFSETTO:+0200
TZNAME:CEST
DTSTART:20260329T010000
END:DAYLIGHT
BEGIN:STANDARD
TZOFFSETFROM:+0200
TZOFFSETTO:+0100
TZNAME:CET
DTSTART:20261025T010000
END:STANDARD
BEGIN:DAYLIGHT
TZOFFSETFROM:+0100
TZOFFSETTO:+0200
TZNAME:CEST
DTSTART:20270328T010000
END:DAYLIGHT
BEGIN:STANDARD
TZOFFSETFROM:+0200
TZOFFSETTO:+0100
TZNAME:CET
DTSTART:20271031T010000
END:STANDARD
END:VTIMEZONE
BEGIN:VEVENT
DTSTART;TZID=Europe/Paris:20260316T080000
DTEND;TZID=Europe/Paris:20260316T170000
DTSTAMP:20260425T000839
CREATED:20250828T084442Z
LAST-MODIFIED:20250828T084442Z
UID:1549-1773648000-1773680400@palva.fr
SUMMARY:Mobiliser\, recruter et fidéliser des bénévoles
DESCRIPTION:Relever le défi de l’engagement aujourd’hui. Le bénévolat évolue à l’image de celles et ceux qui s’y engagent. Venez découvrir les clés pour motiver\, animer et faire reconnaître vos équipes.
URL:http://palva.fr/event/mobiliser-recruter-et-fideliser-des-benevoles/
LOCATION:Centre Nelson Paillou\, 12 Rue du Professeur Garrigou-Lagrange\,\, Pau\, 64000\, France
CATEGORIES:CYCLE EMPLOI ET RESSOURCES HUMAINES
END:VEVENT
END:VCALENDAR