BEGIN:VCALENDAR
VERSION:2.0
PRODID:-//PALVA - ECPv6.15.11//NONSGML v1.0//EN
CALSCALE:GREGORIAN
METHOD:PUBLISH
X-ORIGINAL-URL:http://palva.fr
X-WR-CALDESC:Évènements pour PALVA
REFRESH-INTERVAL;VALUE=DURATION:PT1H
X-Robots-Tag:noindex
X-PUBLISHED-TTL:PT1H
BEGIN:VTIMEZONE
TZID:Europe/Paris
BEGIN:DAYLIGHT
TZOFFSETFROM:+0100
TZOFFSETTO:+0200
TZNAME:CEST
DTSTART:20250330T010000
END:DAYLIGHT
BEGIN:STANDARD
TZOFFSETFROM:+0200
TZOFFSETTO:+0100
TZNAME:CET
DTSTART:20251026T010000
END:STANDARD
BEGIN:DAYLIGHT
TZOFFSETFROM:+0100
TZOFFSETTO:+0200
TZNAME:CEST
DTSTART:20260329T010000
END:DAYLIGHT
BEGIN:STANDARD
TZOFFSETFROM:+0200
TZOFFSETTO:+0100
TZNAME:CET
DTSTART:20261025T010000
END:STANDARD
BEGIN:DAYLIGHT
TZOFFSETFROM:+0100
TZOFFSETTO:+0200
TZNAME:CEST
DTSTART:20270328T010000
END:DAYLIGHT
BEGIN:STANDARD
TZOFFSETFROM:+0200
TZOFFSETTO:+0100
TZNAME:CET
DTSTART:20271031T010000
END:STANDARD
END:VTIMEZONE
BEGIN:VEVENT
DTSTART;TZID=Europe/Paris:20260113T183000
DTEND;TZID=Europe/Paris:20260113T203000
DTSTAMP:20260425T014047
CREATED:20250828T084356Z
LAST-MODIFIED:20250828T084356Z
UID:1547-1768329000-1768336200@palva.fr
SUMMARY:Créer et gérer un emploi dans une association
DESCRIPTION:Faites vos premiers pas dans la fonction employeur de manière sereine et sécurisée. Identifiez les acteurs locaux autour de ces questions (réglementation\, financements\, déclarations…).
URL:http://palva.fr/event/creer-et-gerer-un-emploi-dans-une-association/
LOCATION:Centre Nelson Paillou\, 12 Rue du Professeur Garrigou-Lagrange\,\, Pau\, 64000\, France
CATEGORIES:CYCLE EMPLOI ET RESSOURCES HUMAINES
END:VEVENT
END:VCALENDAR