BEGIN:VCALENDAR
VERSION:2.0
PRODID:-//PALVA - ECPv6.15.11//NONSGML v1.0//EN
CALSCALE:GREGORIAN
METHOD:PUBLISH
X-ORIGINAL-URL:http://palva.fr
X-WR-CALDESC:Évènements pour PALVA
REFRESH-INTERVAL;VALUE=DURATION:PT1H
X-Robots-Tag:noindex
X-PUBLISHED-TTL:PT1H
BEGIN:VTIMEZONE
TZID:Europe/Paris
BEGIN:DAYLIGHT
TZOFFSETFROM:+0100
TZOFFSETTO:+0200
TZNAME:CEST
DTSTART:20240331T010000
END:DAYLIGHT
BEGIN:STANDARD
TZOFFSETFROM:+0200
TZOFFSETTO:+0100
TZNAME:CET
DTSTART:20241027T010000
END:STANDARD
BEGIN:DAYLIGHT
TZOFFSETFROM:+0100
TZOFFSETTO:+0200
TZNAME:CEST
DTSTART:20250330T010000
END:DAYLIGHT
BEGIN:STANDARD
TZOFFSETFROM:+0200
TZOFFSETTO:+0100
TZNAME:CET
DTSTART:20251026T010000
END:STANDARD
BEGIN:DAYLIGHT
TZOFFSETFROM:+0100
TZOFFSETTO:+0200
TZNAME:CEST
DTSTART:20260329T010000
END:DAYLIGHT
BEGIN:STANDARD
TZOFFSETFROM:+0200
TZOFFSETTO:+0100
TZNAME:CET
DTSTART:20261025T010000
END:STANDARD
END:VTIMEZONE
BEGIN:VEVENT
DTSTART;TZID=Europe/Paris:20251201T183000
DTEND;TZID=Europe/Paris:20251201T203000
DTSTAMP:20260425T031244
CREATED:20250828T084309Z
LAST-MODIFIED:20250828T084309Z
UID:1545-1764613800-1764621000@palva.fr
SUMMARY:Les ressources humaines associatives\, la place des bénévoles et autres forces vives
DESCRIPTION:Le choix des ressources humaines doit être guidé par la nature des missions à accomplir : bénévoles\, stagiaires\, volontaires\, salariés ou travailleurs indépendants\, venez découvrir les spécificités de chacun d’entre eux.
URL:http://palva.fr/event/les-ressources-humaines-associatives-la-place-des-benevoles-et-autres-forces-vives/
LOCATION:Centre Nelson Paillou\, 12 Rue du Professeur Garrigou-Lagrange\,\, Pau\, 64000\, France
CATEGORIES:CYCLE EMPLOI ET RESSOURCES HUMAINES
END:VEVENT
END:VCALENDAR