BEGIN:VCALENDAR
VERSION:2.0
PRODID:-//PALVA - ECPv6.15.11//NONSGML v1.0//EN
CALSCALE:GREGORIAN
METHOD:PUBLISH
X-ORIGINAL-URL:http://palva.fr
X-WR-CALDESC:Évènements pour PALVA
REFRESH-INTERVAL;VALUE=DURATION:PT1H
X-Robots-Tag:noindex
X-PUBLISHED-TTL:PT1H
BEGIN:VTIMEZONE
TZID:Europe/Paris
BEGIN:DAYLIGHT
TZOFFSETFROM:+0100
TZOFFSETTO:+0200
TZNAME:CEST
DTSTART:20250330T010000
END:DAYLIGHT
BEGIN:STANDARD
TZOFFSETFROM:+0200
TZOFFSETTO:+0100
TZNAME:CET
DTSTART:20251026T010000
END:STANDARD
BEGIN:DAYLIGHT
TZOFFSETFROM:+0100
TZOFFSETTO:+0200
TZNAME:CEST
DTSTART:20260329T010000
END:DAYLIGHT
BEGIN:STANDARD
TZOFFSETFROM:+0200
TZOFFSETTO:+0100
TZNAME:CET
DTSTART:20261025T010000
END:STANDARD
BEGIN:DAYLIGHT
TZOFFSETFROM:+0100
TZOFFSETTO:+0200
TZNAME:CEST
DTSTART:20270328T010000
END:DAYLIGHT
BEGIN:STANDARD
TZOFFSETFROM:+0200
TZOFFSETTO:+0100
TZNAME:CET
DTSTART:20271031T010000
END:STANDARD
END:VTIMEZONE
BEGIN:VEVENT
DTSTART;TZID=Europe/Paris:20260402T183000
DTEND;TZID=Europe/Paris:20260402T203000
DTSTAMP:20260424T175210
CREATED:20250828T082356Z
LAST-MODIFIED:20250828T082356Z
UID:1522-1775154600-1775161800@palva.fr
SUMMARY:Bien vivre dans son association\, un enjeu pour pérenniser le projet
DESCRIPTION:Bien vivre dans son association\, c’est essentiel pour faire durer un projet dans le temps ! Un cadre éthique\, sans discrimination\, où chacun·e se sent bien et respecté·e\, ça change tout.
URL:http://palva.fr/event/bien-vivre-dans-son-association-un-enjeu-pour-perenniser-le-projet/
LOCATION:Mairie de Billère
CATEGORIES:CYCLE PROJET ASSOCIATIF
END:VEVENT
END:VCALENDAR