BEGIN:VCALENDAR
VERSION:2.0
PRODID:-//PALVA - ECPv6.15.11//NONSGML v1.0//EN
CALSCALE:GREGORIAN
METHOD:PUBLISH
X-ORIGINAL-URL:http://palva.fr
X-WR-CALDESC:Évènements pour PALVA
REFRESH-INTERVAL;VALUE=DURATION:PT1H
X-Robots-Tag:noindex
X-PUBLISHED-TTL:PT1H
BEGIN:VTIMEZONE
TZID:Europe/Paris
BEGIN:DAYLIGHT
TZOFFSETFROM:+0100
TZOFFSETTO:+0200
TZNAME:CEST
DTSTART:20250330T010000
END:DAYLIGHT
BEGIN:STANDARD
TZOFFSETFROM:+0200
TZOFFSETTO:+0100
TZNAME:CET
DTSTART:20251026T010000
END:STANDARD
BEGIN:DAYLIGHT
TZOFFSETFROM:+0100
TZOFFSETTO:+0200
TZNAME:CEST
DTSTART:20260329T010000
END:DAYLIGHT
BEGIN:STANDARD
TZOFFSETFROM:+0200
TZOFFSETTO:+0100
TZNAME:CET
DTSTART:20261025T010000
END:STANDARD
BEGIN:DAYLIGHT
TZOFFSETFROM:+0100
TZOFFSETTO:+0200
TZNAME:CEST
DTSTART:20270328T010000
END:DAYLIGHT
BEGIN:STANDARD
TZOFFSETFROM:+0200
TZOFFSETTO:+0100
TZNAME:CET
DTSTART:20271031T010000
END:STANDARD
END:VTIMEZONE
BEGIN:VEVENT
DTSTART;TZID=Europe/Paris:20260323T183000
DTEND;TZID=Europe/Paris:20260323T203000
DTSTAMP:20260424T192428
CREATED:20250828T083859Z
LAST-MODIFIED:20250828T083859Z
UID:1537-1774290600-1774297800@palva.fr
SUMMARY:Je pilote ma trésorerie\, pour améliorer ma santé financière !
DESCRIPTION:La gestion de la trésorerie est un facteur clé de pérennité d’une association ou d’une entreprise solidaire. Elle consiste à gérer efficacement les flux pour garantir la stabilité et la solvabilité de l’organisation.
URL:http://palva.fr/event/je-pilote-ma-tresorerie-pour-ameliorer-ma-sante-financiere/
LOCATION:Centre Nelson Paillou\, 12 Rue du Professeur Garrigou-Lagrange\,\, Pau\, 64000\, France
CATEGORIES:CYCLE GESTION FINANCIERE
END:VEVENT
END:VCALENDAR