BEGIN:VCALENDAR
VERSION:2.0
PRODID:-//PALVA - ECPv6.15.11//NONSGML v1.0//EN
CALSCALE:GREGORIAN
METHOD:PUBLISH
X-WR-CALNAME:PALVA
X-ORIGINAL-URL:http://palva.fr
X-WR-CALDESC:Évènements pour PALVA
REFRESH-INTERVAL;VALUE=DURATION:PT1H
X-Robots-Tag:noindex
X-PUBLISHED-TTL:PT1H
BEGIN:VTIMEZONE
TZID:Europe/Paris
BEGIN:DAYLIGHT
TZOFFSETFROM:+0100
TZOFFSETTO:+0200
TZNAME:CEST
DTSTART:20250330T010000
END:DAYLIGHT
BEGIN:STANDARD
TZOFFSETFROM:+0200
TZOFFSETTO:+0100
TZNAME:CET
DTSTART:20251026T010000
END:STANDARD
BEGIN:DAYLIGHT
TZOFFSETFROM:+0100
TZOFFSETTO:+0200
TZNAME:CEST
DTSTART:20260329T010000
END:DAYLIGHT
BEGIN:STANDARD
TZOFFSETFROM:+0200
TZOFFSETTO:+0100
TZNAME:CET
DTSTART:20261025T010000
END:STANDARD
BEGIN:DAYLIGHT
TZOFFSETFROM:+0100
TZOFFSETTO:+0200
TZNAME:CEST
DTSTART:20270328T010000
END:DAYLIGHT
BEGIN:STANDARD
TZOFFSETFROM:+0200
TZOFFSETTO:+0100
TZNAME:CET
DTSTART:20271031T010000
END:STANDARD
END:VTIMEZONE
BEGIN:VEVENT
DTSTART;TZID=Europe/Paris:20260124T093000
DTEND;TZID=Europe/Paris:20260124T163000
DTSTAMP:20260424T215522
CREATED:20250828T083543Z
LAST-MODIFIED:20250828T083543Z
UID:1530-1769247000-1769272200@palva.fr
SUMMARY:Les bases de la comptabilité et de la gestion
DESCRIPTION:Se familiariser avec les aspects comptables pour mieux les comprendre\, les élaborer et les partager simplement.
URL:http://palva.fr/event/les-bases-de-la-comptabilite-et-de-la-gestion/
LOCATION:Centre Nelson Paillou\, 12 Rue du Professeur Garrigou-Lagrange\,\, Pau\, 64000\, France
CATEGORIES:CYCLE GESTION FINANCIERE
END:VEVENT
END:VCALENDAR